BEGIN:VCALENDAR
VERSION:2.0
PRODID:-//AI Dubliners - ECPv6.15.20//NONSGML v1.0//EN
CALSCALE:GREGORIAN
METHOD:PUBLISH
X-ORIGINAL-URL:https://aidubliners.com
X-WR-CALDESC:Events for AI Dubliners
REFRESH-INTERVAL;VALUE=DURATION:PT1H
X-Robots-Tag:noindex
X-PUBLISHED-TTL:PT1H
BEGIN:VTIMEZONE
TZID:UTC
BEGIN:STANDARD
TZOFFSETFROM:+0000
TZOFFSETTO:+0000
TZNAME:UTC
DTSTART:20250101T000000
END:STANDARD
END:VTIMEZONE
BEGIN:VEVENT
DTSTART;TZID=UTC:20260415T060000
DTEND;TZID=UTC:20260415T215200
DTSTAMP:20260419T155427
CREATED:20260415T215234Z
LAST-MODIFIED:20260417T202134Z
UID:716-1776232800-1776289920@aidubliners.com
SUMMARY:Pitch & Run Dublin: Where Startup Connections Happen Outside the Boardroom
DESCRIPTION:Dublin’s startup ecosystem does not only come together in meeting rooms. \nSometimes\, it connects in more informal settings\, where conversation feels easier\, hierarchy fades into the background and new ideas can emerge more naturally. \nOne example is Pitch & Run Dublin\, a community format that brings founders\, investors and operators together outside the usual boardroom setting. \nEvent Details\n\nLocation: Caffè Nero\, Grand Canal Dock\, Dublin 2\nTime: 6:00 PM\nFormat: approximately 4 miles around the Docklands\n\nAt first glance\, it may seem like a simple networking event. But the more interesting signal lies in what it represents. \nMore than an event\nWhat matters here is not only the run itself. \nIt is the pattern behind it. \nAs AI and the wider startup ecosystem continue to grow in Dublin\, communities are shaped not only by formal panels\, launches or conferences\, but also by how people meet\, exchange ideas and build trust in less structured environments. \nThat is part of what makes gatherings like this worth noticing. \nWhy informal settings matter\nSome of the best conversations happen when there is less pressure to perform. \nWithout the formality of a pitch room or the structure of a boardroom\, founders\, investors and operators can often connect more openly. For a growing ecosystem\, these moments are not secondary. They are part of the infrastructure that helps ideas circulate and relationships form. \nA wider signal in Dublin’s ecosystem\nAt AI Dubliners\, we pay attention not only to launches and announcements\, but also to the signals behind them. \nBecause ecosystems are shaped not only by what gets built\, but by how people come together around it. \nPitch & Run Dublin is one of those signals. \nMaybe the best connections are not always made in meetings. Sometimes\, they begin on a run.
URL:https://aidubliners.com/event/pitch-run-dublin-ai-community-ireland/
ATTACH;FMTTYPE=image/jpeg:https://aidubliners.com/wp-content/uploads/2026/04/9E97D58F-05D5-4588-A89D-AD604E41642F.jpeg
END:VEVENT
END:VCALENDAR